BEGIN:VCALENDAR
VERSION:2.0
PRODID:-//imim.es//NONSGML kigkonsult.se iCalcreator 2.10//
X-WR-CALNAME:IMIM Calendar
X-WR-TIMEZONE:Europe/Madrid
BEGIN:VTIMEZONE
TZID:Europe/Madrid
LAST-MODIFIED:20251120T104833Z
END:VTIMEZONE
BEGIN:VEVENT
UID:20260420T212531CEST-7611Prw3rB@imim.es
DTSTAMP:20260420T190431Z
CATEGORIES:IMIM
CATEGORIES:SESSION
CLASS:PUBLIC
DESCRIPTION:En el marc del Projecte Salut i Ciència en col·laboració amb le
 s biblioteques de Barcelona\, us convidem el proper dia 19 de novembre a l
 a xerrada 'Contaminació i salut' a càrrec de Fran Madrid\, investigador de
 l Grup de recerca en metabolòmica aplicada de l&#39\;Institut de recerca d
 e l´Hospital del Mar (HMRIB).
DTSTART:20251119T183000
DTEND:20251119T193000
SUMMARY:Contaminació i salut
URL:http://researchmar.net/agenda/view.php?ID=999
END:VEVENT
END:VCALENDAR
