BEGIN:VCALENDAR
VERSION:2.0
PRODID:-//imim.es//NONSGML kigkonsult.se iCalcreator 2.10//
X-WR-CALNAME:IMIM Calendar
X-WR-TIMEZONE:Europe/Madrid
BEGIN:VTIMEZONE
TZID:Europe/Madrid
LAST-MODIFIED:20251117T154913Z
END:VTIMEZONE
BEGIN:VEVENT
UID:20260420T212437CEST-5606KUku78@imim.es
DTSTAMP:20260420T190437Z
CATEGORIES:IMIM
CATEGORIES:SESSION
CLASS:PUBLIC
DESCRIPTION:En el marc del Projecte Salut i Ciència en col·laboració amb le
 s biblioteques de Barcelona\, us convidem el proper dia 13 de novembre a l
 a xerrada 'Cuida els teus ronyons\, cuida el teu cor' a càrrec de Clara Ba
 rrios. Metgessa adjunta de Nefrologia de l´Hospital del Mar i coordinadora
  del Grup de recerca en Nefropaties de l´Institut de Recerca de l´Hospital
  del Mar (HMRIB).
DTSTART:20251113T183000
DTEND:20251113T200000
LOCATION:Biblioteca Barceloneta - La Fraternitat
SUMMARY:Cuida els teus ronyons\, cuida el teu cor
URL:http://researchmar.net/agenda/view.php?ID=997
END:VEVENT
END:VCALENDAR
