BEGIN:VCALENDAR
VERSION:2.0
PRODID:-//imim.es//NONSGML kigkonsult.se iCalcreator 2.10//
X-WR-CALNAME:IMIM Calendar
X-WR-TIMEZONE:Europe/Madrid
BEGIN:VTIMEZONE
TZID:Europe/Madrid
LAST-MODIFIED:20251022T114557Z
END:VTIMEZONE
BEGIN:VEVENT
UID:20260420T212531CEST-9850VGerma@imim.es
DTSTAMP:20260420T190431Z
CATEGORIES:IMIM
CATEGORIES:SESSION
CLASS:PUBLIC
DESCRIPTION:Us convidem al pròxim seminari conjunt del Servei de Cardiologi
 a de l&#39\;Hospital del Mar i el Grup de Recerca Biomèdica en Malalties d
 el Cor de l&#39\;Hospital del Mar Research Institute\, que tindrà lloc el 
 divendres 17 d&#39\;octubre de 2025 a les 08:15 h a la Sala Marie Curie - 
 Pati PRBB.\n\nEl títol serà ' Resultats de cirurgia cardíaca de l&#39\;any
  2024 de l&#39\;Hospital de Sant Pau' i anirà a càrrec de la Dra. Elena Ro
 selló Díez\, Adjunta Cirurgia Cardíaca de l&#39\;Hospital de la Santa Creu
  i Sant Pau.
DTSTART:20251017T081500
DTEND:20251017T000000
SUMMARY:Resultats de cirurgia cardíaca de l'any 2024 de l'Hospital de Sant 
 Pau
URL:http://researchmar.net/agenda/view.php?ID=987
END:VEVENT
END:VCALENDAR
