BEGIN:VCALENDAR
VERSION:2.0
PRODID:-//imim.es//NONSGML kigkonsult.se iCalcreator 2.10//
X-WR-CALNAME:IMIM Calendar
X-WR-TIMEZONE:Europe/Madrid
BEGIN:VTIMEZONE
TZID:Europe/Madrid
LAST-MODIFIED:20251117T154932Z
END:VTIMEZONE
BEGIN:VEVENT
UID:20260420T212437CEST-7861Su1L3D@imim.es
DTSTAMP:20260420T190437Z
CATEGORIES:IMIM
CATEGORIES:SESSION
CLASS:PUBLIC
DESCRIPTION:Us convidem al pròxim seminari conjunt del Servei de Cardiologi
 a de l&#39\;Hospital del Mar i el Grup de Recerca Biomèdica en Malalties d
 el Cor de l&#39\;Hospital del Mar Research Institute\, que tindrà lloc el 
 divendres 14 de novembre de 2025 a les 08:15 h a la Sala Marie Curie - Pat
 i PRBB.\n\nEl títol serà 'Guies 2025 de Patologia Valvular de la Societat 
 Europea de Cardiologia' i anirà a càrrec de l&#39\;Ana Beatriz Garcia Dura
 n\, Adjunta de la secció Imatge Cardíaca\, servei de Cardiologia. Hospital
  de la Mar\, Barcelona.
DTSTART:20251114T081500
DTEND:20251114T000000
SUMMARY:Guies 2025 de Patologia Valvular de la Societat Europea de Cardiolo
 gia
URL:http://researchmar.net/agenda/view.php?ID=985
END:VEVENT
END:VCALENDAR
