BEGIN:VCALENDAR
VERSION:2.0
PRODID:-//imim.es//NONSGML kigkonsult.se iCalcreator 2.10//
X-WR-CALNAME:IMIM Calendar
X-WR-TIMEZONE:Europe/Madrid
BEGIN:VTIMEZONE
TZID:Europe/Madrid
LAST-MODIFIED:20251015T171403Z
END:VTIMEZONE
BEGIN:VEVENT
UID:20260420T212531CEST-5330gJ740F@imim.es
DTSTAMP:20260420T190431Z
CATEGORIES:IMIM
CATEGORIES:SESSION
CLASS:PUBLIC
DESCRIPTION:Us convidem al pròxim seminari del programa de Recerca en Cànce
 r que tindrà lloc el dimecres 15/10/2025 a les 14:00h a la Sala Josep Maru
 ll. El seminari anirà a càrrec de la Rosa Pascual Domingo\, ACRF Cancer Bi
 ology and Stem Cells Division\, Walter and Eliza Hall Institute of Medical
  Research\, Melbourne\, Australia\, Cancer Research Program\, Hospital del
  Mar Research Institute\, Barcelona\, Spain.
DTSTART:20251015T140000
DTEND:20251002T000000
SUMMARY:CANCELED :Identification of novel strategies for breast cancer prev
 ention and treatment
URL:http://researchmar.net/agenda/view.php?ID=983
END:VEVENT
END:VCALENDAR
