BEGIN:VCALENDAR
VERSION:2.0
PRODID:-//imim.es//NONSGML kigkonsult.se iCalcreator 2.10//
X-WR-CALNAME:IMIM Calendar
X-WR-TIMEZONE:Europe/Madrid
BEGIN:VTIMEZONE
TZID:Europe/Madrid
LAST-MODIFIED:20251010T091900Z
END:VTIMEZONE
BEGIN:VEVENT
UID:20260420T212531CEST-2585EttVkv@imim.es
DTSTAMP:20260420T190431Z
CATEGORIES:IMIM
CATEGORIES:SESSION
CLASS:PUBLIC
DESCRIPTION:Us convidem al pròxim seminari del servei d&#39\;Epidemiologia 
 i Salut Pública de l&#39\;Hospital del Mar Research Institute que tindrà l
 loc el pròxim dijous 9 d&#39\;octubre a les 12:30 h a la Sala Xipre. El tí
 tol serà 'Dibibot\, inteligencia artificial en el laboratorio clínico' i a
 nirà a càrrec de Bonaventura Ruiz Montasell\, Director dels laboratoris cl
 ínics de la xarxa dibi\, Dibi-Laboratori de Referència de Catalunya\, Juan
  Ayala Cervantes\, Adjunt a la direcció dels laboratoris clínics de la xar
 xa dibi i Cap de Servei de Laboratori de Clínica Terres de l&#39\;Ebre i H
 ospital de la Santa Creu Jesús\, Dibi-Laboratori de Referència de Cataluny
 a i Oscar Díaz Gil\, Control de Gestió\, Coordinació Projecte Right Care\,
  Dibi-Laboratori de Referència de Catalunya.
DTSTART:20251009T123000
DTEND:20251009T000000
SUMMARY:Dibibot\, inteligencia artificial en el laboratorio clínico
URL:http://researchmar.net/agenda/view.php?ID=981
END:VEVENT
END:VCALENDAR
