BEGIN:VCALENDAR
VERSION:2.0
PRODID:-//imim.es//NONSGML kigkonsult.se iCalcreator 2.10//
X-WR-CALNAME:IMIM Calendar
X-WR-TIMEZONE:Europe/Madrid
BEGIN:VTIMEZONE
TZID:Europe/Madrid
LAST-MODIFIED:20251003T130706Z
END:VTIMEZONE
BEGIN:VEVENT
UID:20260420T212435CEST-4528VunDDa@imim.es
DTSTAMP:20260420T190435Z
CATEGORIES:IMIM
CATEGORIES:SESSION
CLASS:PUBLIC
DESCRIPTION:Us convidem al pròxim seminari conjunt del Servei de Cardiologi
 a de l&#39\;Hospital del Mar i el Grup de Recerca Biomèdica en Malalties d
 el Cor de l&#39\;Hospital del Mar Research Institute\, que tindrà lloc el 
 divendres 3 de setembre de 2025 a les 08:00 h a la Sala Marie Curie - Pati
  PRBB.\n\nEl títol serà 'Mort sobtada: La visió des de la medicina legal i
  forense' i anirà a càrrec de Marisa Ortega Sánchez\, Cap del Servei de Pa
 tologia Forense\, Institut de Medina Legal i Ciències Forenses de Cataluny
 a (IMLCFC).
DTSTART:20251003T080000
DTEND:20251003T090000
SUMMARY:Mort sobtada: La visió des de la medicina legal i forense
URL:http://researchmar.net/agenda/view.php?ID=980
END:VEVENT
END:VCALENDAR
