BEGIN:VCALENDAR
VERSION:2.0
PRODID:-//imim.es//NONSGML kigkonsult.se iCalcreator 2.10//
X-WR-CALNAME:IMIM Calendar
X-WR-TIMEZONE:Europe/Madrid
BEGIN:VTIMEZONE
TZID:Europe/Madrid
LAST-MODIFIED:20250925T101453Z
END:VTIMEZONE
BEGIN:VEVENT
UID:20260420T212435CEST-6794p95VAP@imim.es
DTSTAMP:20260420T190435Z
CATEGORIES:IMIM
CATEGORIES:SESSION
CLASS:PUBLIC
DESCRIPTION:The Hospital del Mar Research Institute in Barcelona is set to 
 host the workshop\, 'NF-kB: Cell Plasticity and Cancer'\, on Tuesday\, Sep
 tember 23\, 2025. The event will take place in the Charles Darwin Room at 
 the PRBB Building.
DTSTART:20250922T000000
SUMMARY:Workshop on NF-kB: Cell Plasticity and Cancer
URL:http://researchmar.net/agenda/view.php?ID=977
END:VEVENT
END:VCALENDAR
