BEGIN:VCALENDAR
VERSION:2.0
PRODID:-//imim.es//NONSGML kigkonsult.se iCalcreator 2.10//
X-WR-CALNAME:IMIM Calendar
X-WR-TIMEZONE:Europe/Madrid
BEGIN:VTIMEZONE
TZID:Europe/Madrid
LAST-MODIFIED:20251022T114706Z
END:VTIMEZONE
BEGIN:VEVENT
UID:20260420T212531CEST-3084NjfXGl@imim.es
DTSTAMP:20260420T190431Z
CATEGORIES:IMIM
CATEGORIES:SESSION
CLASS:PUBLIC
DESCRIPTION:Us convidem al pròxim seminari organitzat pel Programa de Neuro
 ciències de l&#39\;Hospital del Mar Research Institut i del Servei de Neur
 ologia de l&#39\;Hospital del Mar que tindrà lloc el pròxim dilluns 20 d’o
 ctubre a les 10:00 h a la Sala Marie Curie. El títol serà 'Honest liars an
 d the threat to democracy' i anirà a càrrec de Stephan Lewandowsky\, Unive
 rsity of Bristol.
DTSTART:20251020T000000
SUMMARY:Honest liars and the threat to democracy
URL:http://researchmar.net/agenda/view.php?ID=975
END:VEVENT
END:VCALENDAR
