BEGIN:VCALENDAR
VERSION:2.0
PRODID:-//imim.es//NONSGML kigkonsult.se iCalcreator 2.10//
X-WR-CALNAME:IMIM Calendar
X-WR-TIMEZONE:Europe/Madrid
BEGIN:VTIMEZONE
TZID:Europe/Madrid
LAST-MODIFIED:20251216T160957Z
END:VTIMEZONE
BEGIN:VEVENT
UID:20260420T212532CEST-3490OwG5fo@imim.es
DTSTAMP:20260420T190432Z
CATEGORIES:IMIM
CATEGORIES:SESSION
CLASS:PUBLIC
DESCRIPTION:Us convidem al pròxim Hospital del Mar Research Institute /MELI
 S UPF Seminar que tindrà lloc el dimarts 16/12/2025 a les 12:00h a la Sala
  Charles Darwin. El seminari constarà de dues xerrades\, una a càrrec de J
 ana Selent\, Grup de recerca en fàrmacs GPCR\, Hospital del Mar Research I
 nstitute\, amb el títol 'Proteome-Wide Conformational Profiling of G Prote
 in-Coupled Receptors' i l&#39\;altra a càrrec de Baldo Oliva\, coordinador
  de Bioinformàtica Estructural i co-coordinador del Projecte Final de Màst
 er\, Universitat Pompeu Fabra\, amb el títol 'ModCRE and SNPeBot: Tools to
  model protein-DNA interactions and predict Allele Specific Binding in cis
 -regulatory elements'.
DTSTART:20251216T120000
DTEND:20251216T140000
LOCATION:Sala Charles Darwin
SUMMARY:Proteome-Wide Conformational Profiling of G Protein-Coupled Recepto
 rs / ModCRE and SNPeBot: Tools to model protein-DNA interactions and predi
 ct Allele Specific Binding in cis-regulatory elements
URL:http://researchmar.net/agenda/view.php?ID=973
END:VEVENT
END:VCALENDAR
