BEGIN:VCALENDAR
VERSION:2.0
PRODID:-//imim.es//NONSGML kigkonsult.se iCalcreator 2.10//
X-WR-CALNAME:IMIM Calendar
X-WR-TIMEZONE:Europe/Madrid
BEGIN:VTIMEZONE
TZID:Europe/Madrid
LAST-MODIFIED:20250725T104144Z
END:VTIMEZONE
BEGIN:VEVENT
UID:20260420T212407CEST-5177wshOVj@imim.es
DTSTAMP:20260420T190407Z
CATEGORIES:IMIM
CATEGORIES:SESSION
CLASS:PUBLIC
DESCRIPTION:Us convidem a la jornada “Recycle your poster\, share your rese
 arch' organitzada per Arnau Busquests\, Manuel Valero i Laura Modol\, inve
 stigadors del Programa de Neurociències de l&#39\;Hospital del Mar Researc
 h Institut.
DTSTART:20250724T000000
SUMMARY:Recycle your poster\, share your research
URL:http://researchmar.net/agenda/view.php?ID=968
END:VEVENT
END:VCALENDAR
