BEGIN:VCALENDAR
VERSION:2.0
PRODID:-//imim.es//NONSGML kigkonsult.se iCalcreator 2.10//
X-WR-CALNAME:IMIM Calendar
X-WR-TIMEZONE:Europe/Madrid
BEGIN:VTIMEZONE
TZID:Europe/Madrid
LAST-MODIFIED:20250711T121012Z
END:VTIMEZONE
BEGIN:VEVENT
UID:20260420T212531CEST-2585Ud4xFF@imim.es
DTSTAMP:20260420T190431Z
CATEGORIES:IMIM
CATEGORIES:SESSION
CLASS:PUBLIC
DESCRIPTION:Us convidem al pròxim seminari organitzat pel Programa de Neuro
 ciències de l&#39\;Hospital del Mar Research Institut i del Servei de Neur
 ologia de l&#39\;Hospital del Mar que tindrà lloc el pròxim dimarts 8 de j
 uliol a les 15:00 h a la Sala Marie Curie. El títol serà 'Targeting smarte
 r\, not harder: functionally selective compounds for rapid antidepressant 
 and cognitive effects' i anirà a càrrec de Karolina Pytka\, Jagiellonian U
 niversity Medical College\, Krakow\, Poland.
DTSTART:20250708T000000
SUMMARY:Targeting smarter\, not harder: functionally selective compounds fo
 r rapid antidepressant and cognitive effects
URL:http://researchmar.net/agenda/view.php?ID=966
END:VEVENT
END:VCALENDAR
