BEGIN:VCALENDAR
VERSION:2.0
PRODID:-//imim.es//NONSGML kigkonsult.se iCalcreator 2.10//
X-WR-CALNAME:IMIM Calendar
X-WR-TIMEZONE:Europe/Madrid
BEGIN:VTIMEZONE
TZID:Europe/Madrid
LAST-MODIFIED:20250708T135830Z
END:VTIMEZONE
BEGIN:VEVENT
UID:20260420T212532CEST-5285jPgLmO@imim.es
DTSTAMP:20260420T190432Z
CATEGORIES:IMIM
CATEGORIES:SESSION
CLASS:PUBLIC
DESCRIPTION:Us convidem al pròxim seminari organitzat pel Programa de Neuro
 ciències de l&#39\;Hospital del Mar Research Institut i del Servei de Neur
 ologia de l&#39\;Hospital del Mar que tindrà lloc el pròxim dilluns 7 de j
 uliol a les 10:00 h a la Sala Charles Darwin. El títol serà 'Vulnerability
  to hyperalgesia predicts addiction-like behaviors' i anirà a càrrec de Re
 nata Marchette\, National Institute on Drug Abuse Intramural Research Prog
 ram.
DTSTART:20250707T000000
SUMMARY:Vulnerability to hyperalgesia predicts addiction-like behaviors
URL:http://researchmar.net/agenda/view.php?ID=965
END:VEVENT
END:VCALENDAR
