BEGIN:VCALENDAR
VERSION:2.0
PRODID:-//imim.es//NONSGML kigkonsult.se iCalcreator 2.10//
X-WR-CALNAME:IMIM Calendar
X-WR-TIMEZONE:Europe/Madrid
BEGIN:VTIMEZONE
TZID:Europe/Madrid
LAST-MODIFIED:20250620T081142Z
END:VTIMEZONE
BEGIN:VEVENT
UID:20260420T212532CEST-7092GxvoHb@imim.es
DTSTAMP:20260420T190432Z
CATEGORIES:IMIM
CATEGORIES:SESSION
CLASS:PUBLIC
DESCRIPTION:Us convidem al pròxim seminari organitzat pel Programa de Neuro
 ciències de l’Hospital del Mar Research Institut i del Servei de Neurologi
 a de l&#39\;Hospital del Mar que tindrà lloc el pròxim dijous 19 de juny a
  les 08:00 h a la Sala Josep Marull. Aquest seminari forma part de la sess
 ió clínica de cloenda del Curs 2024-2025 de l’Institut de Salut Mental de 
 l’Hospital del Mar. El títol serà 'Actualització i novetats en trastorn bi
 polar' i anirà a càrrec d’Eduard Vieta Pascual\, cap del Servei de Psiquia
 tria i Psicologia a l&#39\;Hospital Clínic i cap del grup de recerca en tr
 astorns bipolars i depressius a l’IDIBAPS. Catedràtic de Psiquiatria (Facu
 ltat de Medicina i Ciències de la Salut) i de l&#39\;Institut de Neurocièn
 cies a la UB. Director científic del CIBERSAM.
DTSTART:20250619T000000
SUMMARY:Actualització i novetats en trastorn bipolar
URL:http://researchmar.net/agenda/view.php?ID=963
END:VEVENT
END:VCALENDAR
