BEGIN:VCALENDAR
VERSION:2.0
PRODID:-//imim.es//NONSGML kigkonsult.se iCalcreator 2.10//
X-WR-CALNAME:IMIM Calendar
X-WR-TIMEZONE:Europe/Madrid
BEGIN:VTIMEZONE
TZID:Europe/Madrid
LAST-MODIFIED:20250611T151400Z
END:VTIMEZONE
BEGIN:VEVENT
UID:20260420T212437CEST-3332oesK1C@imim.es
DTSTAMP:20260420T190437Z
CATEGORIES:IMIM
CATEGORIES:SESSION
CLASS:PUBLIC
DESCRIPTION:Us convidem al pròxim seminari organitzat pel Programa de Neuro
 ciències del Hospital del Mar Research Institut i del Servei de Neurologia
  de l&#39\;Hospital del Mar que tindrà lloc el pròxim dimecres 11 de juny 
 a les 14:00 h a la Sala Rita Levi-Montalcini. El títol serà 'Autonomy and 
 cognitive impairment: the neuroethics approach' i anirà a càrrec de Marcel
  Cano\, Universitat Oberta de Catalunya.
DTSTART:20250611T000000
SUMMARY:Autonomy and cognitive impairment: the neuroethics approach
URL:http://researchmar.net/agenda/view.php?ID=953
END:VEVENT
END:VCALENDAR
