BEGIN:VCALENDAR
VERSION:2.0
PRODID:-//imim.es//NONSGML kigkonsult.se iCalcreator 2.10//
X-WR-CALNAME:IMIM Calendar
X-WR-TIMEZONE:Europe/Madrid
BEGIN:VTIMEZONE
TZID:Europe/Madrid
LAST-MODIFIED:20250321T150641Z
END:VTIMEZONE
BEGIN:VEVENT
UID:20260420T212435CEST-9794voPt7d@imim.es
DTSTAMP:20260420T190435Z
CATEGORIES:IMIM
CATEGORIES:SESSION
CLASS:PUBLIC
DESCRIPTION:The annual Barcelona Computational\, Cognitive and Systems Neur
 oscience (BARCCSYN) meeting is about bringing together researchers from co
 mputational\, systems and cognitive neuroscience. Our goal is to provide a
  forum for lively discussion and promote active collaboration between Barc
 elona-based research groups\, especially between theorists and experimenta
 lists.
DTSTART:20250522T000000
DTEND:20250523T000000
SUMMARY:Barcelona Computational\, Cognitive and Systems Neuroscience (BARCC
 SYN) 2025 -Registration Deadline 11 May
URL:http://researchmar.net/agenda/view.php?ID=941
END:VEVENT
END:VCALENDAR
