BEGIN:VCALENDAR
VERSION:2.0
PRODID:-//imim.es//NONSGML kigkonsult.se iCalcreator 2.10//
X-WR-CALNAME:IMIM Calendar
X-WR-TIMEZONE:Europe/Madrid
BEGIN:VTIMEZONE
TZID:Europe/Madrid
LAST-MODIFIED:20201203T125643Z
END:VTIMEZONE
BEGIN:VEVENT
UID:20260421T062421CEST-4816svvSOl@imim.es
DTSTAMP:20260421T040421Z
CATEGORIES:IMIM
CATEGORIES:SESSION
CLASS:PUBLIC
DESCRIPTION:Us convidem al proper IMIM Seminars\, organitzat pel programa d
 e recerca en càncer\, que tindrà lloc el dimecres 02/12/2020 a les 14:00 h
 . El títol serà 'Notch signaling and more: from Hematopoietic stem cells t
 o Acute Lymphoblastic Leukemia'\, a càrrec de la Dra. Anna Bigas\, coordin
 adora del grup de recerca en cèl·lules mare i càncer de l&#39\;IMIM i dire
 ctora científica del CIBERONC.
DTSTART:20201202T000000
SUMMARY:Notch signaling and more: from Hematopoietic stem cells to Acute Ly
 mphoblastic Leukemia
URL:http://researchmar.net/agenda/view.php?ID=652
END:VEVENT
END:VCALENDAR
