BEGIN:VCALENDAR
VERSION:2.0
PRODID:-//imim.es//NONSGML kigkonsult.se iCalcreator 2.10//
X-WR-CALNAME:IMIM Calendar
X-WR-TIMEZONE:Europe/Madrid
BEGIN:VTIMEZONE
TZID:Europe/Madrid
LAST-MODIFIED:20170619T171058Z
END:VTIMEZONE
BEGIN:VEVENT
UID:20260421T112523CEST-726670csUp@imim.es
DTSTAMP:20260421T090423Z
CATEGORIES:IMIM
CATEGORIES:SESSION
CLASS:PUBLIC
DESCRIPTION:El 4 de junio J. B. Carlisle ha publicado un artículo “Data fab
 rication and other reasons for non-random sampling in 5087 randomised\, co
 ntrolled trials in anaesthetic and general medical journals”(http://online
 library.wiley.com/doi/10.1111/anae.13938/full). En resumen ha estudiado la
  “Tabla 1” (T1) de los ensayos clínicos (CT) dónde se muestra que las cara
 cterísticas de los pacientes se han repartido por igual entre los grupos d
 e estudio. Si la selección se ha realizado aleatoriamente\, la hipótesis n
 ula “se supone” por diseño\, y por esta razón en la mayoría de artículos n
 i tan solo se pone el p-valor.
DTSTART:20170619T000000
SUMMARY:A propósito del artículo “Data fabrication and other reasons for no
 n-random sampling in 5087 randomised\, controlled trials in anaesthetic an
 d general medical journals”
URL:http://researchmar.net/agenda/view.php?ID=493
END:VEVENT
END:VCALENDAR
