BEGIN:VCALENDAR
VERSION:2.0
PRODID:-//imim.es//NONSGML kigkonsult.se iCalcreator 2.10//
X-WR-CALNAME:IMIM Calendar
X-WR-TIMEZONE:Europe/Madrid
BEGIN:VTIMEZONE
TZID:Europe/Madrid
LAST-MODIFIED:20170421T113141Z
END:VTIMEZONE
BEGIN:VEVENT
UID:20260421T124759CEST-5356RVaxbt@imim.es
DTSTAMP:20260421T100459Z
CATEGORIES:IMIM
CATEGORIES:SESSION
CLASS:PUBLIC
DESCRIPTION:El proper dimarts 18 d'abril tindrà lloc la sessió 'Can genetic
 s identify true causal associations between exposure and outcome? The Mend
 elian randomization approach' organitzada pel Grup de Recerca en Epidemiol
 ogia i Genètica Cardiovasculars de l'IMIM. La sessió anirà a càrrec de Rob
 ert Carreras\, investigador postdoctoral del Grup d'Epidemiologia Genètica
  (GEP) al IARC (International Agency for Research on Cancer (IARC/WHO)\, L
 yon.
DTSTART:20170418T000000
SUMMARY:Can genetics identify true causal associations between exposure and
  outcome? The Mendelian randomization approach
URL:http://researchmar.net/agenda/view.php?ID=481
END:VEVENT
END:VCALENDAR
