BEGIN:VCALENDAR
VERSION:2.0
PRODID:-//imim.es//NONSGML kigkonsult.se iCalcreator 2.10//
X-WR-CALNAME:IMIM Calendar
X-WR-TIMEZONE:Europe/Madrid
BEGIN:VTIMEZONE
TZID:Europe/Madrid
LAST-MODIFIED:20150603T105703Z
END:VTIMEZONE
BEGIN:VEVENT
UID:20260421T142214CEST-8690EuHidL@imim.es
DTSTAMP:20260421T120414Z
CATEGORIES:IMIM
CATEGORIES:SESSION
CLASS:PUBLIC
DESCRIPTION:El proper dimecres dia 3 de juny a les 15:00 h tindrà lloc a la
  Sala Charles Darwin (pati interior del PRBB) la sessió\, organitzada pel 
 Programa de càncer\, que porta per títol 'Impact of the intratumor heterog
 eneity in the treatment of brain tumors' a càrrec del Dr. Joan Seoane\, Pr
 ofessor ICREA i director de recerca translacional del Vall d'Hebron Instit
 ute d'Oncologia (VHIO). 
DTSTART:20150603T000000
SUMMARY:'Impact of the intratumor heterogeneity in the treatment of brain t
 umors' a càrrec de Joan Seoane
URL:http://researchmar.net/agenda/view.php?ID=390
END:VEVENT
END:VCALENDAR
