BEGIN:VCALENDAR
VERSION:2.0
PRODID:-//imim.es//NONSGML kigkonsult.se iCalcreator 2.10//
X-WR-CALNAME:IMIM Calendar
X-WR-TIMEZONE:Europe/Madrid
BEGIN:VTIMEZONE
TZID:Europe/Madrid
LAST-MODIFIED:20150507T102216Z
END:VTIMEZONE
BEGIN:VEVENT
UID:20260421T142214CEST-3750RAb77e@imim.es
DTSTAMP:20260421T120414Z
CATEGORIES:IMIM
CATEGORIES:SESSION
CLASS:PUBLIC
DESCRIPTION:El proper dimecres dia 6 de maig a les 15:00 h tindrà lloc a la
  Sala Xipre (173.06) la sessió\, organitzada pel Programa de càncer\, que 
 porta per títol 'CD5 and CD6 lymphocyte receptors as novel targets of immu
 nomodulation' a càrrec del Dr. Francisco Lozano\, cap del grup d'Immunorec
 eptors del sistema innat i adaptatiu\, Centre Esther Koplowitz (CEK) de Ba
 rcelona.\n\n 
DTSTART:20150506T000000
SUMMARY:CD5 and CD6 lymphocyte receptors as novel targets of immunomodulati
 on a càrrec de Francisco Lozano
URL:http://researchmar.net/agenda/view.php?ID=387
END:VEVENT
END:VCALENDAR
