BEGIN:VCALENDAR
VERSION:2.0
PRODID:-//imim.es//NONSGML kigkonsult.se iCalcreator 2.10//
X-WR-CALNAME:IMIM Calendar
X-WR-TIMEZONE:Europe/Madrid
BEGIN:VTIMEZONE
TZID:Europe/Madrid
LAST-MODIFIED:20100708T104655Z
END:VTIMEZONE
BEGIN:VEVENT
UID:20260421T204806CEST-4198Sm8GHb@imim.es
DTSTAMP:20260421T180406Z
CATEGORIES:IMIM
CATEGORIES:SESSION
CLASS:PUBLIC
DESCRIPTION:Amb motiu del Cicle de Conferències “Construint ponts entre la 
 Recerca i la Salut” que enguany encetem com un punt de trobada anual al vo
 ltant del mestratge d'un investigador rellevant en el camp de la Biomedici
 na\, el proper 7 de juliol comptarem amb la presència del Professor Riccar
 do Dalla - Favera que\, sota el títol “From lymphoma clinics to lymphoma g
 enes and perhaps back”\, realitzarà la primera conferència magistral a la 
 Sala d'Actes Josep Marull de l'Hospital del Mar.
DTSTART:20100707T000000
SUMMARY:I Conferència 'Construint ponts entre la Recerca i la Salut
URL:http://researchmar.net/agenda/view.php?ID=190
END:VEVENT
END:VCALENDAR
