BEGIN:VCALENDAR
VERSION:2.0
PRODID:-//imim.es//NONSGML kigkonsult.se iCalcreator 2.10//
X-WR-CALNAME:IMIM Calendar
X-WR-TIMEZONE:Europe/Madrid
BEGIN:VTIMEZONE
TZID:Europe/Madrid
LAST-MODIFIED:20260420T135759Z
END:VTIMEZONE
BEGIN:VEVENT
UID:20260420T195440CEST-5497h6IGGo@imim.es
DTSTAMP:20260420T170440Z
CATEGORIES:IMIM
CATEGORIES:SESSION
CLASS:PUBLIC
DESCRIPTION:Us convidem al pròxim seminari organitzat pel programa de Recer
 ca en Càncer que tindrà lloc el dimecres 22/04/2026 a les 14:00h a la Ramó
 n & Cajal. El seminari constarà d&#39\;una xerrada a càrrec de Alba Vidal\
 , investigadora predoctoral\, Grup de recerca en cèl·lules mare i càncer (
 Hospital del Mar Research Institute)\, amb el títol 'Molecular mechanisms 
 supporting therapy resistance in T-All”.
DTSTART:20260422T140000
DTEND:20260422T155900
LOCATION:Sala Ramón & Cajal
SUMMARY:Molecular mechanisms supporting therapy resistance in T-All
URL:http://researchmar.net/agenda/view.php?ID=1076
END:VEVENT
END:VCALENDAR
