BEGIN:VCALENDAR
VERSION:2.0
PRODID:-//imim.es//NONSGML kigkonsult.se iCalcreator 2.10//
X-WR-CALNAME:IMIM Calendar
X-WR-TIMEZONE:Europe/Madrid
BEGIN:VTIMEZONE
TZID:Europe/Madrid
LAST-MODIFIED:20260415T095156Z
END:VTIMEZONE
BEGIN:VEVENT
UID:20260420T195450CEST-9683UjwnJA@imim.es
DTSTAMP:20260420T170450Z
CATEGORIES:IMIM
CATEGORIES:SESSION
CLASS:PUBLIC
DESCRIPTION:We are excited to announce the 'Attracting Postdoctoral Researc
 hers Event'\, taking place online on 15th April 2026. This event is organi
 zed within the framework of the talent attraction project by the Research 
 Grants and Contracts Office.\n\nThe main objective is to attract postdocto
 ral researchers by highlighting HMRIB&#39\;s strengths\, available funding
  opportunities\, and professional development strategies for researchers. 
 The event will offer valuable insights into the research environment\, inf
 rastructure\, and career development support at the Hospital del Mar Resea
 rch Institute (HMRIB).\n\n 
DTSTART:20260415T000000
SUMMARY:Attracting Postdoctoral Researchers: Funding\, Research Lines & Car
 eer Development at HMRIB
URL:http://researchmar.net/agenda/view.php?ID=1062
END:VEVENT
END:VCALENDAR
