BEGIN:VCALENDAR
VERSION:2.0
PRODID:-//imim.es//NONSGML kigkonsult.se iCalcreator 2.10//
X-WR-CALNAME:IMIM Calendar
X-WR-TIMEZONE:Europe/Madrid
BEGIN:VTIMEZONE
TZID:Europe/Madrid
LAST-MODIFIED:20260318T110715Z
END:VTIMEZONE
BEGIN:VEVENT
UID:20260420T195602CEST-2970sZlEhT@imim.es
DTSTAMP:20260420T170402Z
CATEGORIES:IMIM
CATEGORIES:SESSION
CLASS:PUBLIC
DESCRIPTION:Us convidem al pròxim seminari conjunt del Servei de Cardiologi
 a de l&#39\;Hospital del Mar i el Grup de Recerca Biomèdica en Malalties d
 el Cor de l&#39\;Hospital del Mar Research Institute\, que tindrà lloc el 
 divendres 20 de març de 2026 a les 08:15 h a la Sala Marie Curie (PRBB).
 El títol serà 'Efectos cardiovasculares del consumo de shabu' i anirà a cà
 rrec de la Dra. Núria Ribas Barquet\, cap Secció Unitat Coronària\, Servei
  de Cardiologia de l’Hospital del Mar i professora Associada Universitat P
 ompeu Fabra. GREC. IMIM i de Núria Merino Montoliu\, estudiant de TFG Medi
 cina\, Universitat Pompeu Fabra.
DTSTART:20260320T081500
DTEND:20260320T100000
LOCATION:Sala Marie-Curie
SUMMARY:CANCELED: Efectos cardiovasculares del consumo de shabu
URL:http://researchmar.net/agenda/view.php?ID=1057
END:VEVENT
END:VCALENDAR
