BEGIN:VCALENDAR
VERSION:2.0
PRODID:-//imim.es//NONSGML kigkonsult.se iCalcreator 2.10//
X-WR-CALNAME:IMIM Calendar
X-WR-TIMEZONE:Europe/Madrid
BEGIN:VTIMEZONE
TZID:Europe/Madrid
LAST-MODIFIED:20260313T083157Z
END:VTIMEZONE
BEGIN:VEVENT
UID:20260420T212531CEST-2585UpphOv@imim.es
DTSTAMP:20260420T190431Z
CATEGORIES:IMIM
CATEGORIES:SESSION
CLASS:PUBLIC
DESCRIPTION:Us convidem al pròxim seminari conjunt del Servei de Cardiologi
 a de l&#39\;Hospital del Mar i el Grup de Recerca Biomèdica en Malalties d
 el Cor de l&#39\;Hospital del Mar Research Institute\, que tindrà lloc el 
 divendres 13 de febrer de 2026 a les 08:15 h a la Sala Marie Curie (PRBB).
 \nEl títol serà 'El estudio REBOOT y los meta-análisis según FEVI' i anirà
  a càrrec del Dr. Manuel Anguita Sánchez\, Servei de Cardiologia\, Hospita
 l Puerta de Hierro Majadahonda.
DTSTART:20260313T081500
DTEND:20260313T100000
LOCATION:Sala Marie-Curie
SUMMARY:El estudio REBOOT y los  meta-análisis según FEVI
URL:http://researchmar.net/agenda/view.php?ID=1044
END:VEVENT
END:VCALENDAR
