BEGIN:VCALENDAR
VERSION:2.0
PRODID:-//imim.es//NONSGML kigkonsult.se iCalcreator 2.10//
X-WR-CALNAME:IMIM Calendar
X-WR-TIMEZONE:Europe/Madrid
BEGIN:VTIMEZONE
TZID:Europe/Madrid
LAST-MODIFIED:20260303T153441Z
END:VTIMEZONE
BEGIN:VEVENT
UID:20260420T194636CEST-0845vXFZvr@imim.es
DTSTAMP:20260420T170436Z
CATEGORIES:IMIM
CATEGORIES:SESSION
CLASS:PUBLIC
DESCRIPTION:Us convidem al pròxim seminari que tindrà lloc el dimarts 03/03
 /2026 a les 13:00h a la Sala Marie Curie. El seminari anirà a càrrec de Jo
 aquin Dopazo\, Director de la Plataforma BioAI (BBRC-CRG-HMRIB)\, Cap del 
 Grup de Recerca en IA i Dades en Salut (BBRC). Porta per títol 'Generating
  real-world evidence by leveraging large medical databases'.
DTSTART:20260303T130000
DTEND:20260303T140000
SUMMARY:Generating real-world evidence by leveraging large medical database
 s
URL:http://researchmar.net/agenda/view.php?ID=1043
END:VEVENT
END:VCALENDAR
