BEGIN:VCALENDAR
VERSION:2.0
PRODID:-//imim.es//NONSGML kigkonsult.se iCalcreator 2.10//
X-WR-CALNAME:IMIM Calendar
X-WR-TIMEZONE:Europe/Madrid
BEGIN:VTIMEZONE
TZID:Europe/Madrid
LAST-MODIFIED:20260226T104055Z
END:VTIMEZONE
BEGIN:VEVENT
UID:20260420T195914CEST-9540ivR0e6@imim.es
DTSTAMP:20260420T170414Z
CATEGORIES:IMIM
CATEGORIES:SESSION
CLASS:PUBLIC
DESCRIPTION:La Unitat de Transferència i Translació de l&#39\;HMRIB posa en
  marxa la MAR Tech Transfer Academy. Un programa dissenyat per proporciona
 r al personal investigador i clínic casos pràctics per part de professiona
 ls de l&#39\;ecosistema que han viscut experiències en la transferència\, 
 amb l&#39\;objectiu de donar les eines necessàries per convertir descobrim
 ents de la seva recerca en solucions tangibles per a la societat amb l&#39
 \;objectiu d&#39\;ajudar-te a portar la recerca del laboratori al mercat.
DTSTART:20260422T160000
DTEND:20260422T000000
SUMMARY:MAR TECH TRANSFER ACADEMY: Securing Scientific Innovation to Build 
 the Future - The Aromics case under Carme Plasencia's Leadership at Aromic
 s
URL:http://researchmar.net/agenda/view.php?ID=1042
END:VEVENT
END:VCALENDAR
