BEGIN:VCALENDAR
VERSION:2.0
PRODID:-//imim.es//NONSGML kigkonsult.se iCalcreator 2.10//
X-WR-CALNAME:IMIM Calendar
X-WR-TIMEZONE:Europe/Madrid
BEGIN:VTIMEZONE
TZID:Europe/Madrid
LAST-MODIFIED:20260325T084745Z
END:VTIMEZONE
BEGIN:VEVENT
UID:20260420T195843CEST-4146iGu9pf@imim.es
DTSTAMP:20260420T170443Z
CATEGORIES:IMIM
CATEGORIES:SESSION
CLASS:PUBLIC
DESCRIPTION:La Unitat de Transferència i Translació de l&#39\;HMRIB posa en
  marxa la MAR Tech Transfer Academy. Un programa dissenyat per proporciona
 r al personal investigador i clínic casos pràctics per part de professiona
 ls de l&#39\;ecosistema que han viscut experiències en la transferència\, 
 amb l&#39\;objectiu de donar les eines necessàries per convertir descobrim
 ents de la seva recerca en solucions tangibles per a la societat amb l&#39
 \;objectiu d&#39\;ajudar-te a portar la recerca del laboratori al mercat.
DTSTART:20260324T160000
DTEND:20260324T000000
LOCATION:Sala Charles Darwin
SUMMARY:MAR TECH TRANSFER ACADEMY: From Scientific Discovery to Business Op
 portunity: The Maribel Berges Approach to Spin-offs and Licensing
URL:http://researchmar.net/agenda/view.php?ID=1041
END:VEVENT
END:VCALENDAR
