BEGIN:VCALENDAR
VERSION:2.0
PRODID:-//imim.es//NONSGML kigkonsult.se iCalcreator 2.10//
X-WR-CALNAME:IMIM Calendar
X-WR-TIMEZONE:Europe/Madrid
BEGIN:VTIMEZONE
TZID:Europe/Madrid
LAST-MODIFIED:20260306T090953Z
END:VTIMEZONE
BEGIN:VEVENT
UID:20260420T194636CEST-5875BLaObd@imim.es
DTSTAMP:20260420T170436Z
CATEGORIES:IMIM
CATEGORIES:SESSION
CLASS:PUBLIC
DESCRIPTION:Us convidem al pròxim seminari conjunt del Servei de Cardiologi
 a de l&#39\;Hospital del Mar i el Grup de Recerca Biomèdica en Malalties d
 el Cor de l&#39\;Hospital del Mar Research Institute\, que tindrà lloc el 
 divendres 6 de febrer de 2026 a les 08:15 h a la Sala Marie Curie (PRBB).
 \nEl títol serà 'Titulación de fármacos en pacientes con enfermedad cardio
 rrenal' i anirà a càrrec del Dra. Marta Cobo Marcos\, Cardiòloga\, Hospita
 l Puerta de Hierro Majadahonda.
DTSTART:20260306T081500
DTEND:20260306T100000
LOCATION:Sala Marie-Curie
SUMMARY:Titulación de fármacos en pacientes con enfermedad cardiorrenal
URL:http://researchmar.net/agenda/view.php?ID=1040
END:VEVENT
END:VCALENDAR
