BEGIN:VCALENDAR
VERSION:2.0
PRODID:-//imim.es//NONSGML kigkonsult.se iCalcreator 2.10//
X-WR-CALNAME:IMIM Calendar
X-WR-TIMEZONE:Europe/Madrid
BEGIN:VTIMEZONE
TZID:Europe/Madrid
LAST-MODIFIED:20260306T090744Z
END:VTIMEZONE
BEGIN:VEVENT
UID:20260420T194645CEST-6817gK0NL8@imim.es
DTSTAMP:20260420T170445Z
CATEGORIES:IMIM
CATEGORIES:SESSION
CLASS:PUBLIC
DESCRIPTION:Us convidem al pròxim seminari organitzat pel programa de Recer
 ca en Càncer que tindrà lloc el dimecres 04/03/2026 a les 14:00h a la Sala
  Charles Darwin. El seminari constarà d&#39\;una xerrada a càrrec de Joan 
 Albanell\, MD\, PhD\, Hospital del Mar\, punt focal del CCC i cap del Serv
 ei d&#39\;Oncologia\, director del Programa de Recerca en Càncer\, HMRIB\,
  amb el títol 'Hospital del Mar Designated EU Comprehensive Cancer Center 
 (CCC): How we got here and the path to EUnetCCC Certification'.
DTSTART:20260304T140000
DTEND:20260304T150000
LOCATION:Sala Charles Darwin
SUMMARY:Hospital del Mar Designated EU Comprehensive Cancer Center (CCC): H
 ow we got here and the path to EUnetCCC Certification
URL:http://researchmar.net/agenda/view.php?ID=1039
END:VEVENT
END:VCALENDAR
