BEGIN:VCALENDAR
VERSION:2.0
PRODID:-//imim.es//NONSGML kigkonsult.se iCalcreator 2.10//
X-WR-CALNAME:IMIM Calendar
X-WR-TIMEZONE:Europe/Madrid
BEGIN:VTIMEZONE
TZID:Europe/Madrid
LAST-MODIFIED:20260219T091544Z
END:VTIMEZONE
BEGIN:VEVENT
UID:20260420T194635CEST-57904fm6rv@imim.es
DTSTAMP:20260420T170435Z
CATEGORIES:IMIM
CATEGORIES:SESSION
CLASS:PUBLIC
DESCRIPTION:Us convidem al pròxim seminari organitzat pel Laboratori de com
 putació neural del Programa de Neurociències de l&#39\;Hospital del Mar Re
 search Institut que tindrà lloc el pròxim dimecres 18 de febrer a les 11:0
 0 h a la Sala Xipre. El títol serà 'Behavioral modulation and consolidatio
 n of hippocampal spatial maps' i anirà a càrrec del Dr Andrea Burgalossi\,
  professor de circuits neurals i comportament de la Universitat de Tübinge
 n.
DTSTART:20260218T000000
SUMMARY:Behavioral modulation and consolidation of hippocampal spatial maps
URL:http://researchmar.net/agenda/view.php?ID=1037
END:VEVENT
END:VCALENDAR
