BEGIN:VCALENDAR
VERSION:2.0
PRODID:-//imim.es//NONSGML kigkonsult.se iCalcreator 2.10//
X-WR-CALNAME:IMIM Calendar
X-WR-TIMEZONE:Europe/Madrid
BEGIN:VTIMEZONE
TZID:Europe/Madrid
LAST-MODIFIED:20260220T105719Z
END:VTIMEZONE
BEGIN:VEVENT
UID:20260420T194620CEST-4642zX6toW@imim.es
DTSTAMP:20260420T170420Z
CATEGORIES:IMIM
CATEGORIES:SESSION
CLASS:PUBLIC
DESCRIPTION:Us convidem al pròxim seminari conjunt del Servei de Cardiologi
 a de l&#39\;Hospital del Mar i el Grup de Recerca Biomèdica en Malalties d
 el Cor de l&#39\;Hospital del Mar Research Institute\, que tindrà lloc el 
 divendres 20 de febrer de 2026 a les 08:15 h a la Sala Marie Curie (PRBB).
 \nEl títol serà 'Código Isquemia Mesentérica Aguda. Resultados tras el pri
 mer año de implementación' i anirà a càrrec del Dra. Ana María González Ca
 stillo\, F.E.B.S. Emergency Surgery\, Unitat de Trauma i Cirurgia d&#39\;U
 rgències. Cirurgia General i de l&#39\;Aparell Digestiu. Hospital del Mar.
DTSTART:20260220T081500
DTEND:20260220T100000
LOCATION:Sala Marie Curie
SUMMARY:Código Isquemia Mesentérica Aguda. Resultados tras el primer año de
  implementación
URL:http://researchmar.net/agenda/view.php?ID=1036
END:VEVENT
END:VCALENDAR
