BEGIN:VCALENDAR
VERSION:2.0
PRODID:-//imim.es//NONSGML kigkonsult.se iCalcreator 2.10//
X-WR-CALNAME:IMIM Calendar
X-WR-TIMEZONE:Europe/Madrid
BEGIN:VTIMEZONE
TZID:Europe/Madrid
LAST-MODIFIED:20260213T103752Z
END:VTIMEZONE
BEGIN:VEVENT
UID:20260420T202111CEST-9055vDJlht@imim.es
DTSTAMP:20260420T180411Z
CATEGORIES:IMIM
CATEGORIES:SESSION
CLASS:PUBLIC
DESCRIPTION:Us convidem al pròxim seminari conjunt del Servei de Cardiologi
 a de l&#39\;Hospital del Mar i el Grup de Recerca Biomèdica en Malalties d
 el Cor de l&#39\;Hospital del Mar Research Institute\, que tindrà lloc el 
 divendres 13 de febrer de 2026 a les 08:15 h a la Sala Marie Curie (PRBB).
 \nEl títol serà 'Herramientas de evaluación por competencias' i anirà a cà
 rrec del Dr. Eduardo Mateos Torres\, metge adjunt i tutor de residents de 
 Cirugia Vascular. 
DTSTART:20260213T081500
DTEND:20260213T000000
SUMMARY:Herramientas de evaluación por competencias
URL:http://researchmar.net/agenda/view.php?ID=1035
END:VEVENT
END:VCALENDAR
