BEGIN:VCALENDAR
VERSION:2.0
PRODID:-//imim.es//NONSGML kigkonsult.se iCalcreator 2.10//
X-WR-CALNAME:IMIM Calendar
X-WR-TIMEZONE:Europe/Madrid
BEGIN:VTIMEZONE
TZID:Europe/Madrid
LAST-MODIFIED:20260218T091437Z
END:VTIMEZONE
BEGIN:VEVENT
UID:20260420T201722CEST-9141bjjOGW@imim.es
DTSTAMP:20260420T180422Z
CATEGORIES:IMIM
CATEGORIES:SESSION
CLASS:PUBLIC
DESCRIPTION:The Technology Transfer and Translation Unit of the HMRIB is la
 unching the MAR Tech Transfer Academy\, a program designed to provide rese
 arch and clinical staff with practical case studies delivered by professio
 nals from the innovation ecosystem who have firsthand experience in techno
 logy transfer. The goal is to equip participants with the tools needed to 
 turn research discoveries into tangible solutions for society\, helping to
  bring research from the laboratory to the market.\n\nThrough interactive 
 sessions with industry experts and research-based entrepreneurs\, we will 
 explore key aspects of technology transfer\, intellectual property\, clini
 cal development\, and commercialization strategies\, as well as the challe
 nges encountered and how they were addressed.
DTSTART:20260217T000000
SUMMARY:MAR TECH TRANSFER ACADEMY: When your best Cell paper does not drive
  enthusiastic investment: the solution-looking-for-a-problem all time clas
 sic
URL:http://researchmar.net/agenda/view.php?ID=1034
END:VEVENT
END:VCALENDAR
