BEGIN:VCALENDAR
VERSION:2.0
PRODID:-//imim.es//NONSGML kigkonsult.se iCalcreator 2.10//
X-WR-CALNAME:IMIM Calendar
X-WR-TIMEZONE:Europe/Madrid
BEGIN:VTIMEZONE
TZID:Europe/Madrid
LAST-MODIFIED:20260224T083426Z
END:VTIMEZONE
BEGIN:VEVENT
UID:20260420T194646CEST-1809cjCXUK@imim.es
DTSTAMP:20260420T170446Z
CATEGORIES:IMIM
CATEGORIES:SESSION
CLASS:PUBLIC
DESCRIPTION:Aquest cicle de cinc diàlegs sobre el cervell ofereix una mirad
 a única i accessible als grans reptes del coneixement humà. Des de la salu
 t mental fins a la consciència\, la memòria\, l&#39\;envelliment i la rela
 ció entre cervell i tecnologia\, les converses reuneixen investigadors i i
 nvestigadores de primer nivell per compartir el que avui sabem -i el que e
 ncara ignorem- sobre l&#39\;òrgan que ens defineix qui som. Amb un llengua
 tge entenedor i esperit obert\, els diàlegs volen apropar la neurociència 
 a la ciutadania i estimular la curiositat per entendre millor el cervell\,
  la ment i el futur que estem construint.
DTSTART:20260223T000000
DTEND:20260323T000000
SUMMARY:El cervell i nosaltres: els enigmes de la ment
URL:http://researchmar.net/agenda/view.php?ID=1033
END:VEVENT
END:VCALENDAR
