BEGIN:VCALENDAR
VERSION:2.0
PRODID:-//imim.es//NONSGML kigkonsult.se iCalcreator 2.10//
X-WR-CALNAME:IMIM Calendar
X-WR-TIMEZONE:Europe/Madrid
BEGIN:VTIMEZONE
TZID:Europe/Madrid
LAST-MODIFIED:20260123T125723Z
END:VTIMEZONE
BEGIN:VEVENT
UID:20260420T194619CEST-9648rfcGU0@imim.es
DTSTAMP:20260420T170419Z
CATEGORIES:IMIM
CATEGORIES:SESSION
CLASS:PUBLIC
DESCRIPTION:Us convidem al pròxim seminari conjunt del Servei de Cardiologi
 a de l&#39\;Hospital del Mar i el Grup de Recerca Biomèdica en Malalties d
 el Cor de l&#39\;Hospital del Mar Research Institute\, que tindrà lloc el 
 divendres 23 de gener de 2026 a les 08:15 h a la Sala Marie Curie (PRBB).
 \nEl títol serà 'La malaltia vascular pulmonar com a model de col·laboraci
 ó: buscant sinèrgies entre Cardiologia i Pneumologia' i anirà a càrrec de 
 Diego Rodríguez Chiaradia\, cap del Servei de Pneumologia de l’Hospital de
 l Mar.
DTSTART:20260123T000000
SUMMARY:La malaltia vascular pulmonar com a model de col·laboració: buscant
  sinèrgies entre Cardiologia i Pneumologia
URL:http://researchmar.net/agenda/view.php?ID=1026
END:VEVENT
END:VCALENDAR
