BEGIN:VCALENDAR
VERSION:2.0
PRODID:-//imim.es//NONSGML kigkonsult.se iCalcreator 2.10//
X-WR-CALNAME:IMIM Calendar
X-WR-TIMEZONE:Europe/Madrid
BEGIN:VTIMEZONE
TZID:Europe/Madrid
LAST-MODIFIED:20260116T132036Z
END:VTIMEZONE
BEGIN:VEVENT
UID:20260420T194635CEST-2776T48l2K@imim.es
DTSTAMP:20260420T170435Z
CATEGORIES:IMIM
CATEGORIES:SESSION
CLASS:PUBLIC
DESCRIPTION:Us convidem al pròxim seminari conjunt del Servei de Cardiologi
 a de l&#39\;Hospital del Mar i el Grup de Recerca Biomèdica en Malalties d
 el Cor de l&#39\;Hospital del Mar Research Institute\, que tindrà lloc el 
 divendres 16 de gener de 2026 a les 08:15 h a la Sala Marie Curie (PRBB).
 \nEl títol serà 'Salud cardiovascular de la mujer' i anirà a càrrec d&#39\
 ;Antonia Pijuan Domenech\, Adjunta del Servei de Cardiologia de l&#39\;Hos
 pital Vall d&#39\;Hebron.
DTSTART:20260116T000000
SUMMARY:Salud cardiovascular de la mujer
URL:http://researchmar.net/agenda/view.php?ID=1025
END:VEVENT
END:VCALENDAR
