BEGIN:VCALENDAR
VERSION:2.0
PRODID:-//imim.es//NONSGML kigkonsult.se iCalcreator 2.10//
X-WR-CALNAME:IMIM Calendar
X-WR-TIMEZONE:Europe/Madrid
BEGIN:VTIMEZONE
TZID:Europe/Madrid
LAST-MODIFIED:20260115T085526Z
END:VTIMEZONE
BEGIN:VEVENT
UID:20260420T194646CEST-6821gUuEFk@imim.es
DTSTAMP:20260420T170446Z
CATEGORIES:IMIM
CATEGORIES:SESSION
CLASS:PUBLIC
DESCRIPTION:Us convidem al pròxim seminari organitzat pel programa de Recer
 ca en Càncer que tindrà lloc el dimecres 14/01/2026 a les 14:00h a la Sala
  Charles Darwin. El seminari constarà de dues xerrades\, una a càrrec Benn
 ett Nickell\, investigador predoctoral del Grup de recerca en Poli (ADP-ri
 bosa) polimerases de l&#39\;Hospital del Mar Research Institute\, amb el t
 ítol 'Emerging roles for PARP2 in coordinating innate immunity and leverag
 ing NK cell anti-tumour responses' i l&#39\;altra a càrrec de Anna Benito\
 , investigadora predoctoral del Cancer Biology Group (Ana Janic&#39\;s lab
 ) de la Universitat Pompeu Fabra\, amb el títol 'Adenosine dependency as a
  therapeutic vulnerability in lung cancer with concurrent mutations in KRA
 S and TP53'.
DTSTART:20260114T000000
SUMMARY:Emerging roles for PARP2 in coordinating innate immunity and levera
 ging NK cell anti-tumour responses / Adenosine dependency as a therapeutic
  vulnerability in lung cancer with concurrent mutations in KRAS and TP53
URL:http://researchmar.net/agenda/view.php?ID=1023
END:VEVENT
END:VCALENDAR
