BEGIN:VCALENDAR
VERSION:2.0
PRODID:-//imim.es//NONSGML kigkonsult.se iCalcreator 2.10//
X-WR-CALNAME:IMIM Calendar
X-WR-TIMEZONE:Europe/Madrid
BEGIN:VTIMEZONE
TZID:Europe/Madrid
LAST-MODIFIED:20260209T101502Z
END:VTIMEZONE
BEGIN:VEVENT
UID:20260420T201759CEST-3674s2sEtV@imim.es
DTSTAMP:20260420T180459Z
CATEGORIES:IMIM
CATEGORIES:SESSION
CLASS:PUBLIC
DESCRIPTION:On 6 February 2026 will take place a new edition of the 'Recent
  Advances in Genitourinary Malignancies (RAGM-2026)' symposium\, organized
  by the Hospital del Mar Research Institute and directed by Dr. Joaquim Be
 llmunt\, Group leader of the urological cancer research group and Dr. Juan
  Pablo Fusco Head of the Department of Medical Oncology Quironsalud.\n\nFo
 r more information and free registration please access to: RAGM Symposium 
 2026
DTSTART:20260206T000000
SUMMARY:Recent Advances in Genitourinary Malignancies (RAGM-2026) - 6 Febru
 ary 2026 - FREE REGISTRATION OPEN!
URL:http://researchmar.net/agenda/view.php?ID=1022
END:VEVENT
END:VCALENDAR
