BEGIN:VCALENDAR
VERSION:2.0
PRODID:-//imim.es//NONSGML kigkonsult.se iCalcreator 2.10//
X-WR-CALNAME:IMIM Calendar
X-WR-TIMEZONE:Europe/Madrid
BEGIN:VTIMEZONE
TZID:Europe/Madrid
LAST-MODIFIED:20260116T093907Z
END:VTIMEZONE
BEGIN:VEVENT
UID:20260420T194529CEST-140328jvVU@imim.es
DTSTAMP:20260420T170429Z
CATEGORIES:IMIM
CATEGORIES:SESSION
CLASS:PUBLIC
DESCRIPTION:Us convidem al pròxim seminari del programa de Recerca en Cànce
 r que tindrà lloc el dijous 15/01/2026 a les 13:00h a la Sala Ramón y Caja
 l. El seminari anirà a càrrec de Raymond Schiffelers\, Professor of Nanome
 dicine\, Central Diagnostisch Laboratorium\, University Medical Centre Utr
 echt\, Utrecht\, Netherlands i Vicepresident Pre Clinical R&D\, R&D\, Nano
 Cell Therapeutics BV\, Utrecht\, Netherlands i de Pol Escudé\, Postdoctora
 l researcher\, Central Diagnostisch Laboratorium\, University Medical Cent
 re Utrecht\, Utrecht\, Netherlands. Porta per títol 'In vivo lipid nanopar
 ticle-mediated nucleic acid delivery for cancer immunotherapies'.
DTSTART:20260115T000000
SUMMARY:In vivo lipid nanoparticle–mediated nucleic acid delivery for cance
 r immunotherapies
URL:http://researchmar.net/agenda/view.php?ID=1021
END:VEVENT
END:VCALENDAR
