BEGIN:VCALENDAR
VERSION:2.0
PRODID:-//imim.es//NONSGML kigkonsult.se iCalcreator 2.10//
X-WR-CALNAME:IMIM Calendar
X-WR-TIMEZONE:Europe/Madrid
BEGIN:VTIMEZONE
TZID:Europe/Madrid
LAST-MODIFIED:20260108T131802Z
END:VTIMEZONE
BEGIN:VEVENT
UID:20260420T194619CEST-6812bF7pzi@imim.es
DTSTAMP:20260420T170419Z
CATEGORIES:IMIM
CATEGORIES:SESSION
CLASS:PUBLIC
DESCRIPTION:Us convidem al pròxim seminari organitzat pel programa de Recer
 ca en Càncer que tindrà lloc el dimecres 07/01/2026 a les 14:00h a la Sala
  Charles Darwin. El seminari constarà de dues xerrades\, una a càrrec Anaï
 s Jiménez\, investigadora postdoctoral del Grup de recerca en Immunoteràpi
 a de l&#39\;Hospital del Mar Research Institute/CNIO)\, amb el títol 'Tumo
 r-infiltrating lymphocytes secreting T cell-engaging antibodies induce reg
 ression of patient-derived lung cancer xenografts' i l&#39\;altra a càrrec
  de José Ángel Palomeque\, investigador predoctoral del Grup de recerca en
  Cèl·lules mare canceroses i dinàmiques de metastasis de l&#39\;Hospital d
 el Mar Research Institute\, amb el títol 'LCOR role in hormone-receptor po
 sitive breast cancer immunity'.
DTSTART:20260107T000000
SUMMARY:Tumor-infiltrating lymphocytes secreting T cell-engaging antibodies
  induce regression of patient-derived lung cancer xenografts / LCOR role i
 n hormone-receptor positive breast cancer immunity
URL:http://researchmar.net/agenda/view.php?ID=1020
END:VEVENT
END:VCALENDAR
