BEGIN:VCALENDAR
VERSION:2.0
PRODID:-//imim.es//NONSGML kigkonsult.se iCalcreator 2.10//
X-WR-CALNAME:IMIM Calendar
X-WR-TIMEZONE:Europe/Madrid
BEGIN:VTIMEZONE
TZID:Europe/Madrid
LAST-MODIFIED:20260206T110540Z
END:VTIMEZONE
BEGIN:VEVENT
UID:20260420T202045CEST-4794s5GIXJ@imim.es
DTSTAMP:20260420T180445Z
CATEGORIES:IMIM
CATEGORIES:SESSION
CLASS:PUBLIC
DESCRIPTION:Us convidem al pròxim seminari del programa de Recerca en Cànce
 r que tindrà lloc el dimecres 04/02/2026 a les 14:00h a la Sala Marull. El
  seminari anirà a càrrec de la Renée Beekman\, Group leader del Single Cel
 l Epigenomics and Cancer Development del Centre de Regulació Genòmica (CRG
 )\, Barcelona\, Spain. Porta per títol 'Charting early lymphoma formation 
 from the epigenomics perspective'.
DTSTART:20260204T140000
DTEND:20260204T150000
LOCATION:Sala Marull
SUMMARY:Charting early lymphoma formation from the epigenomics perspective
URL:http://researchmar.net/agenda/view.php?ID=1019
END:VEVENT
END:VCALENDAR
