BEGIN:VCALENDAR
VERSION:2.0
PRODID:-//imim.es//NONSGML kigkonsult.se iCalcreator 2.10//
X-WR-CALNAME:IMIM Calendar
X-WR-TIMEZONE:Europe/Madrid
BEGIN:VTIMEZONE
TZID:Europe/Madrid
LAST-MODIFIED:20260121T085241Z
END:VTIMEZONE
BEGIN:VEVENT
UID:20260420T194620CEST-9629sm4O9F@imim.es
DTSTAMP:20260420T170420Z
CATEGORIES:IMIM
CATEGORIES:SESSION
CLASS:PUBLIC
DESCRIPTION:Us convidem al pròxim Hospital del Mar Research Institute /MELI
 S UPF Seminar que tindrà lloc el dimarts 20/01/2026 a les 12:00h a la Sala
  Charles Darwin. El seminari constarà de dues xerrades\, una a càrrec de P
 ablo Villoslada\, MD\, PhD\, Cap del servei de neurologia\, Hospital del M
 ar\, i Director del programa de neurociències HMRIB\, amb el títol 'Modula
 ting neuronal networks and glia phenotypes by focused ultrasound for neuro
 repair and brain diseases therapy' i l&#39\;altra a càrrec de Jose Manuel 
 Fernàndez\, Professor agregat\, Laboratori de Fisiologia Molecular\, Depar
 tament de Medicina i Ciències de la Vida\, UPF\, amb el títol 'Voltage-gat
 ed and Mechanosensitive Calcium Channels in Neurological Disorders'.
DTSTART:20260120T120000
DTEND:20260120T130000
LOCATION:Sala Charles Darwin
SUMMARY:Modulating neuronal networks and glia phenotypes by focused ultraso
 und for neurorepair and brain diseases therapy' / 'Voltage-gated and Mecha
 nosensitive Calcium Channels in Neu
URL:http://researchmar.net/agenda/view.php?ID=1017
END:VEVENT
END:VCALENDAR
