BEGIN:VCALENDAR
VERSION:2.0
PRODID:-//imim.es//NONSGML kigkonsult.se iCalcreator 2.10//
X-WR-CALNAME:IMIM Calendar
X-WR-TIMEZONE:Europe/Madrid
BEGIN:VTIMEZONE
TZID:Europe/Madrid
LAST-MODIFIED:20251203T160458Z
END:VTIMEZONE
BEGIN:VEVENT
UID:20260420T212436CEST-2815HeUm3b@imim.es
DTSTAMP:20260420T190436Z
CATEGORIES:IMIM
CATEGORIES:SESSION
CLASS:PUBLIC
DESCRIPTION:Us convidem al pròxim seminari del programa de Recerca en Cànce
 r que tindrà lloc el dimarts 03/12/2025 a les 14:00h a la Sala Marull. El 
 seminari anirà a càrrec de l&#39\;Ari Melnick\, MD\, FAACR\, Director Jose
 p Carreras Institute for Leukemia Research. Porta per títol 'Understanding
  and Treating Immune System Cancers'.
DTSTART:20251203T140000
DTEND:20251203T150000
LOCATION:Sala Marull
SUMMARY:Understanding and Treating Immune System Cancers
URL:http://researchmar.net/agenda/view.php?ID=1007
END:VEVENT
END:VCALENDAR
