BEGIN:VCALENDAR
VERSION:2.0
PRODID:-//imim.es//NONSGML kigkonsult.se iCalcreator 2.10//
X-WR-CALNAME:IMIM Calendar
X-WR-TIMEZONE:Europe/Madrid
BEGIN:VTIMEZONE
TZID:Europe/Madrid
LAST-MODIFIED:20251217T155800Z
END:VTIMEZONE
BEGIN:VEVENT
UID:20260420T194529CEST-6037Db8vVb@imim.es
DTSTAMP:20260420T170429Z
CATEGORIES:IMIM
CATEGORIES:SESSION
CLASS:PUBLIC
DESCRIPTION:En el marc del Projecte Salut i Ciència en col·laboració amb le
 s biblioteques de Barcelona\, us convidem el proper dia 16 de desembre a l
 a xerrada 'Com sumar vida als anys: què ens diu la ciència' a càrrec de la
  Laura Forcano\, psicòloga\, investigadora del Grup de recerca en farmacol
 ogia integrada i neurociència de sistemes de l&#39\;Institut de Recerca de
  l´Hospital del Mar (HMRIB) i la Maria Gomis\, neuropsicòloga\, investigad
 ora del Grup de recerca en farmacologia integrada i neurociència de sistem
 es de l&#39\;Institut de Recerca de l´Hospital del Mar (HMRIB).
DTSTART:20251216T183000
DTEND:20251216T200000
LOCATION:Biblioteca Gabriel Garcia Márquez
SUMMARY:Com sumar vida als anys: què ens diu la ciència
URL:http://researchmar.net/agenda/view.php?ID=1005
END:VEVENT
END:VCALENDAR
