BEGIN:VCALENDAR
VERSION:2.0
PRODID:-//imim.es//NONSGML kigkonsult.se iCalcreator 2.10//
X-WR-CALNAME:IMIM Calendar
X-WR-TIMEZONE:Europe/Madrid
BEGIN:VTIMEZONE
TZID:Europe/Madrid
LAST-MODIFIED:20251121T132515Z
END:VTIMEZONE
BEGIN:VEVENT
UID:20260420T212532CEST-1686hccFPK@imim.es
DTSTAMP:20260420T190432Z
CATEGORIES:IMIM
CATEGORIES:SESSION
CLASS:PUBLIC
DESCRIPTION:Us convidem al pròxim seminari conjunt del Servei de Cardiologi
 a de l&#39\;Hospital del Mar i el Grup de Recerca Biomèdica en Malalties d
 el Cor de l&#39\;Hospital del Mar Research Institute\, que tindrà lloc el 
 divendres 21 de novembre de 2025 a les 08:15 h a la Sala Marie Curie - Pat
 i PRBB.\n\nEl títol serà 'Guies 2025 de Miocarditis i Pericarditis de la S
 ocietat Europea de Cardiologia' i anirà a càrrec de Leticia Castrillo Golv
 ano\, Adjunta de Cardiología Clínica en el Hospital del Mar.
DTSTART:20251121T081500
DTEND:20251121T100000
LOCATION:Sala Marie Curie
SUMMARY:Guies 2025 de Miocarditis i Pericarditis de la Societat Europea de 
 Cardiologia
URL:http://researchmar.net/agenda/view.php?ID=1004
END:VEVENT
END:VCALENDAR
