BEGIN:VCALENDAR
VERSION:2.0
PRODID:-//imim.es//NONSGML kigkonsult.se iCalcreator 2.10//
X-WR-CALNAME:IMIM Calendar
X-WR-TIMEZONE:Europe/Madrid
BEGIN:VTIMEZONE
TZID:Europe/Madrid
LAST-MODIFIED:20251120T104824Z
END:VTIMEZONE
BEGIN:VEVENT
UID:20260420T212435CEST-4528URLk64@imim.es
DTSTAMP:20260420T190435Z
CATEGORIES:IMIM
CATEGORIES:SESSION
CLASS:PUBLIC
DESCRIPTION:El proper 19 de novembre a les 18:00h tindrà lloc el diàleg 'AR
 N: nous horitzons en la medicina del futur' a càrrec de Juan Valcàrcel\, p
 rofessor ICREA i cap de grup de recerca al Centre de Regulació Genòmica\, 
 Jenniffer Linares\, oncòloga a l&#39\;Hospital del Mar i investigadora del
  grup de recerca en Medicina de precisió del càncer colorrectal de l’Insti
 tut de Recerca de l’Hospital del Mar i Pablo Villoslada\, director del Pro
 grama de Neurociències  de l’Institut de Recerca de l´Hospital del Mar i c
 ap de servei de Neurologia de l’Hospital del Mar. Moderarà Maria Buxadé\, 
 CEO a Alterna Therapeutics.
DTSTART:20251119T000000
SUMMARY:ARN: nous horitzons en la medicina del futur
URL:http://researchmar.net/agenda/view.php?ID=1003
END:VEVENT
END:VCALENDAR
