BEGIN:VCALENDAR
VERSION:2.0
PRODID:-//imim.es//NONSGML kigkonsult.se iCalcreator 2.10//
X-WR-CALNAME:IMIM Calendar
X-WR-TIMEZONE:Europe/Madrid
BEGIN:VTIMEZONE
TZID:Europe/Madrid
LAST-MODIFIED:20251113T084401Z
END:VTIMEZONE
BEGIN:VEVENT
UID:20260420T212437CEST-1101UZ61Bk@imim.es
DTSTAMP:20260420T190437Z
CATEGORIES:IMIM
CATEGORIES:SESSION
CLASS:PUBLIC
DESCRIPTION:Us convidem al pròxim Seminari Virtual de Salut Laboral\, que t
 indrà lloc el pròxim dia 17 de novembre a les 16:00h.\n\nA càrrec de l&#39
 \;Equip d&#39\;investigación CiSAL-UPF/ Servei Salut Laboral-Hospital del 
 Mar\, amb el títol 'Matriz empleo-exposición específica de un centro sanit
 ario\, estudio piloto'
DTSTART:20251117T160000
DTEND:20251117T180000
LOCATION:Virtual
SUMMARY:Matriz empleo-exposición específica de un centro sanitario\, estudi
 o piloto
URL:http://researchmar.net/agenda/view.php?ID=1002
END:VEVENT
END:VCALENDAR
