BEGIN:VCALENDAR
VERSION:2.0
PRODID:-//imim.es//NONSGML kigkonsult.se iCalcreator 2.10//
X-WR-CALNAME:IMIM Calendar
X-WR-TIMEZONE:Europe/Madrid
BEGIN:VTIMEZONE
TZID:Europe/Madrid
LAST-MODIFIED:20251203T174401Z
END:VTIMEZONE
BEGIN:VEVENT
UID:20260420T212538CEST-2998T8t4Tl@imim.es
DTSTAMP:20260420T190438Z
CATEGORIES:IMIM
CATEGORIES:SESSION
CLASS:PUBLIC
DESCRIPTION:El próximo 3 de diciembre a las 16:00h tendrà lugar en la Sala 
 Charles Darwin\, el seminario 'Ética e integridad en las relaciones con la
  industria farmacéutica: Claves para el cumplimiento normativo' a cargo de
 l Dr. José Francisco Zamarriego\, Director de la Unidad de Supervisión Deo
 ntológica de Farmaindustria y Presidente de la Junta Directiva de la Asoci
 ación Española de Compliance (ASCOM).\n\nEl seminario está organizado por 
 los Servicios Jurídicos del Hospital del Mar y del Instituto de Investigac
 ión del Hospital del Mar y requiere inscripción previa por limitación de a
 foro.
DTSTART:20251203T000000
SUMMARY:Ética e integridad en las relaciones con la industria farmacéutica:
  Claves para el cumplimiento normativo
URL:http://researchmar.net/agenda/view.php?ID=1001
END:VEVENT
END:VCALENDAR
